BEGIN:VCALENDAR
VERSION:2.0
PRODID:-//Sewickley Township Public Library - ECPv6.15.11//NONSGML v1.0//EN
CALSCALE:GREGORIAN
METHOD:PUBLISH
X-WR-CALNAME:Sewickley Township Public Library
X-ORIGINAL-URL:https://www.sewickleytownshippubliclibrary.org
X-WR-CALDESC:Events for Sewickley Township Public Library
REFRESH-INTERVAL;VALUE=DURATION:PT1H
X-Robots-Tag:noindex
X-PUBLISHED-TTL:PT1H
BEGIN:VTIMEZONE
TZID:America/New_York
BEGIN:DAYLIGHT
TZOFFSETFROM:-0500
TZOFFSETTO:-0400
TZNAME:EDT
DTSTART:20250309T070000
END:DAYLIGHT
BEGIN:STANDARD
TZOFFSETFROM:-0400
TZOFFSETTO:-0500
TZNAME:EST
DTSTART:20251102T060000
END:STANDARD
BEGIN:DAYLIGHT
TZOFFSETFROM:-0500
TZOFFSETTO:-0400
TZNAME:EDT
DTSTART:20260308T070000
END:DAYLIGHT
BEGIN:STANDARD
TZOFFSETFROM:-0400
TZOFFSETTO:-0500
TZNAME:EST
DTSTART:20261101T060000
END:STANDARD
BEGIN:DAYLIGHT
TZOFFSETFROM:-0500
TZOFFSETTO:-0400
TZNAME:EDT
DTSTART:20270314T070000
END:DAYLIGHT
BEGIN:STANDARD
TZOFFSETFROM:-0400
TZOFFSETTO:-0500
TZNAME:EST
DTSTART:20271107T060000
END:STANDARD
END:VTIMEZONE
BEGIN:VEVENT
DTSTART;TZID=America/New_York:20260424T183000
DTEND;TZID=America/New_York:20260424T200000
DTSTAMP:20260421T010608
CREATED:20260409T012410Z
LAST-MODIFIED:20260409T012410Z
UID:10001113-1777055400-1777060800@www.sewickleytownshippubliclibrary.org
SUMMARY:Adult Painting Class
DESCRIPTION:Adult Spring Flower Painting Class\nFriday\, April 24th\, 6:30PM\nGet ready to welcome spring with a beautiful tulip field painting class!\nIn this fun\, relaxed session\, participants will learn a variety of painting techniques while creating their own vibrant seasonal artwork. No experience needed – just bring your creativity!\n@ Herminie United Methodist Church\nRegistration required: sewickley@wclibraries.org\, 724.446.9940
URL:https://www.sewickleytownshippubliclibrary.org/event/adult-painting-class-2/
LOCATION:Herminie United Methodist Church\, 3365 Pike St \, PA\, Herminie\, PA\, 15637\, United States
CATEGORIES:All Ages Activity,Make & Take
ATTACH;FMTTYPE=image/png:https://www.sewickleytownshippubliclibrary.org/wp-content/uploads/2026/04/2026-Apr-24-Spring-Flower-Painting2.png
ORGANIZER;CN="Mandy Luchs":MAILTO:mandy.luchs@wclibraries.org
END:VEVENT
END:VCALENDAR