BEGIN:VCALENDAR
VERSION:2.0
PRODID:-//Sewickley Township Public Library - ECPv6.15.11//NONSGML v1.0//EN
CALSCALE:GREGORIAN
METHOD:PUBLISH
X-ORIGINAL-URL:https://www.sewickleytownshippubliclibrary.org
X-WR-CALDESC:Events for Sewickley Township Public Library
REFRESH-INTERVAL;VALUE=DURATION:PT1H
X-Robots-Tag:noindex
X-PUBLISHED-TTL:PT1H
BEGIN:VTIMEZONE
TZID:America/New_York
BEGIN:DAYLIGHT
TZOFFSETFROM:-0500
TZOFFSETTO:-0400
TZNAME:EDT
DTSTART:20250309T070000
END:DAYLIGHT
BEGIN:STANDARD
TZOFFSETFROM:-0400
TZOFFSETTO:-0500
TZNAME:EST
DTSTART:20251102T060000
END:STANDARD
BEGIN:DAYLIGHT
TZOFFSETFROM:-0500
TZOFFSETTO:-0400
TZNAME:EDT
DTSTART:20260308T070000
END:DAYLIGHT
BEGIN:STANDARD
TZOFFSETFROM:-0400
TZOFFSETTO:-0500
TZNAME:EST
DTSTART:20261101T060000
END:STANDARD
BEGIN:DAYLIGHT
TZOFFSETFROM:-0500
TZOFFSETTO:-0400
TZNAME:EDT
DTSTART:20270314T070000
END:DAYLIGHT
BEGIN:STANDARD
TZOFFSETFROM:-0400
TZOFFSETTO:-0500
TZNAME:EST
DTSTART:20271107T060000
END:STANDARD
END:VTIMEZONE
BEGIN:VEVENT
DTSTART;TZID=America/New_York:20260204T130000
DTEND;TZID=America/New_York:20260204T140000
DTSTAMP:20260424T111543
CREATED:20241119T005110Z
LAST-MODIFIED:20250922T103440Z
UID:10000832-1770210000-1770213600@www.sewickleytownshippubliclibrary.org
SUMMARY:Story Time & More!
DESCRIPTION:Join us Wednesdays at 1PM for Story Time & More! \nYes\, we have stories\, of course we do! The more books\, the better!\nBut we also have experiments\, songs\, crafts\, special presenters & more! Something new every week.\nNo registration necessary ~ no cost. ALL ages welcome! Geared for ages 0-5. Stop by!\nStory Time is presented with funding from EQT Foundation. \nPlease check our Facebook page for details.
URL:https://www.sewickleytownshippubliclibrary.org/event/story-time-more-20/2026-02-04/
LOCATION:Sewickley Township Public Library\, 312 Sewickley Avenue\, Herminie\, PA\, 15637\, United States
CATEGORIES:All Ages Activity,Story Time
ATTACH;FMTTYPE=image/png:https://www.sewickleytownshippubliclibrary.org/wp-content/uploads/2024/11/2025-Story-Time-and-More.png
ORGANIZER;CN="Jennifer Worley":MAILTO:jennifer.worley@wclibraries.org
END:VEVENT
BEGIN:VEVENT
DTSTART;TZID=America/New_York:20260209T130000
DTEND;TZID=America/New_York:20260209T140000
DTSTAMP:20260424T111543
CREATED:20260209T153448Z
LAST-MODIFIED:20260410T003335Z
UID:10001110-1770642000-1770645600@www.sewickleytownshippubliclibrary.org
SUMMARY:STEAM Club - Valentine Math\, Measurements & Mazes
DESCRIPTION:STEAM Club\nFebruary 9th\, 1:00 PM \nValentine Math\, Measurements & Mazes \nOpen to all Homeschool\, Cyber School \, and at-home learners~ ALL AGES!\nThere is no charge for these events. For more information\, please email sewickley@wclibraries.org or call 724.446.9940. \n**Please note: STEAM Club will take place at Herminie United Methodist Church in February. Enter the side door facing Church Street and go down the stairs to the social hall.\n3365 Pike Street\, Herminie
URL:https://www.sewickleytownshippubliclibrary.org/event/steam-club-valentine-math-measurements-mazes/
LOCATION:Herminie United Methodist Church\, 3365 Pike St \, PA\, Herminie\, PA\, 15637\, United States
CATEGORIES:Homeschool & Cyberschool Students,STEAM Club
ATTACH;FMTTYPE=image/png:https://www.sewickleytownshippubliclibrary.org/wp-content/uploads/2026/02/2026-Feb-9-Steam-Club2.png
ORGANIZER;CN="Mandy Luchs":MAILTO:mandy.luchs@wclibraries.org
END:VEVENT
BEGIN:VEVENT
DTSTART;TZID=America/New_York:20260210T120000
DTEND;TZID=America/New_York:20260210T190000
DTSTAMP:20260424T111543
CREATED:20260209T152123Z
LAST-MODIFIED:20260209T152123Z
UID:10001109-1770724800-1770750000@www.sewickleytownshippubliclibrary.org
SUMMARY:Valentine Make & Take
DESCRIPTION:Love is in the air at the Library!\nCraft a Valentine with our colorful assortment of supplies.\nTuesday\, February 10th.\nThis free event is perfect for all ages.\nDrop in any time between 12-7PM
URL:https://www.sewickleytownshippubliclibrary.org/event/valentine-make-take/
LOCATION:Sewickley Township Public Library\, 312 Sewickley Avenue\, Herminie\, PA\, 15637\, United States
CATEGORIES:All Ages Activity,Make & Take
ATTACH;FMTTYPE=image/png:https://www.sewickleytownshippubliclibrary.org/wp-content/uploads/2026/02/2026-Feb-10-Valentine-Make-and-Take_crop.png
ORGANIZER;CN="Mandy Luchs":MAILTO:mandy.luchs@wclibraries.org
END:VEVENT
BEGIN:VEVENT
DTSTART;TZID=America/New_York:20260211T130000
DTEND;TZID=America/New_York:20260211T140000
DTSTAMP:20260424T111543
CREATED:20241119T005110Z
LAST-MODIFIED:20250922T103440Z
UID:10000833-1770814800-1770818400@www.sewickleytownshippubliclibrary.org
SUMMARY:Story Time & More!
DESCRIPTION:Join us Wednesdays at 1PM for Story Time & More! \nYes\, we have stories\, of course we do! The more books\, the better!\nBut we also have experiments\, songs\, crafts\, special presenters & more! Something new every week.\nNo registration necessary ~ no cost. ALL ages welcome! Geared for ages 0-5. Stop by!\nStory Time is presented with funding from EQT Foundation. \nPlease check our Facebook page for details.
URL:https://www.sewickleytownshippubliclibrary.org/event/story-time-more-20/2026-02-11/
LOCATION:Sewickley Township Public Library\, 312 Sewickley Avenue\, Herminie\, PA\, 15637\, United States
CATEGORIES:All Ages Activity,Story Time
ATTACH;FMTTYPE=image/png:https://www.sewickleytownshippubliclibrary.org/wp-content/uploads/2024/11/2025-Story-Time-and-More.png
ORGANIZER;CN="Jennifer Worley":MAILTO:jennifer.worley@wclibraries.org
END:VEVENT
BEGIN:VEVENT
DTSTART;TZID=America/New_York:20260218T130000
DTEND;TZID=America/New_York:20260218T140000
DTSTAMP:20260424T111543
CREATED:20241119T005110Z
LAST-MODIFIED:20250922T103440Z
UID:10000834-1771419600-1771423200@www.sewickleytownshippubliclibrary.org
SUMMARY:Story Time & More!
DESCRIPTION:Join us Wednesdays at 1PM for Story Time & More! \nYes\, we have stories\, of course we do! The more books\, the better!\nBut we also have experiments\, songs\, crafts\, special presenters & more! Something new every week.\nNo registration necessary ~ no cost. ALL ages welcome! Geared for ages 0-5. Stop by!\nStory Time is presented with funding from EQT Foundation. \nPlease check our Facebook page for details.
URL:https://www.sewickleytownshippubliclibrary.org/event/story-time-more-20/2026-02-18/
LOCATION:Sewickley Township Public Library\, 312 Sewickley Avenue\, Herminie\, PA\, 15637\, United States
CATEGORIES:All Ages Activity,Story Time
ATTACH;FMTTYPE=image/png:https://www.sewickleytownshippubliclibrary.org/wp-content/uploads/2024/11/2025-Story-Time-and-More.png
ORGANIZER;CN="Jennifer Worley":MAILTO:jennifer.worley@wclibraries.org
END:VEVENT
BEGIN:VEVENT
DTSTART;TZID=America/New_York:20260225T130000
DTEND;TZID=America/New_York:20260225T140000
DTSTAMP:20260424T111543
CREATED:20241119T005110Z
LAST-MODIFIED:20250922T103440Z
UID:10000835-1772024400-1772028000@www.sewickleytownshippubliclibrary.org
SUMMARY:Story Time & More!
DESCRIPTION:Join us Wednesdays at 1PM for Story Time & More! \nYes\, we have stories\, of course we do! The more books\, the better!\nBut we also have experiments\, songs\, crafts\, special presenters & more! Something new every week.\nNo registration necessary ~ no cost. ALL ages welcome! Geared for ages 0-5. Stop by!\nStory Time is presented with funding from EQT Foundation. \nPlease check our Facebook page for details.
URL:https://www.sewickleytownshippubliclibrary.org/event/story-time-more-20/2026-02-25/
LOCATION:Sewickley Township Public Library\, 312 Sewickley Avenue\, Herminie\, PA\, 15637\, United States
CATEGORIES:All Ages Activity,Story Time
ATTACH;FMTTYPE=image/png:https://www.sewickleytownshippubliclibrary.org/wp-content/uploads/2024/11/2025-Story-Time-and-More.png
ORGANIZER;CN="Jennifer Worley":MAILTO:jennifer.worley@wclibraries.org
END:VEVENT
END:VCALENDAR