BEGIN:VCALENDAR
VERSION:2.0
PRODID:-//Sewickley Township Public Library - ECPv6.15.11//NONSGML v1.0//EN
CALSCALE:GREGORIAN
METHOD:PUBLISH
X-WR-CALNAME:Sewickley Township Public Library
X-ORIGINAL-URL:https://www.sewickleytownshippubliclibrary.org
X-WR-CALDESC:Events for Sewickley Township Public Library
REFRESH-INTERVAL;VALUE=DURATION:PT1H
X-Robots-Tag:noindex
X-PUBLISHED-TTL:PT1H
BEGIN:VTIMEZONE
TZID:America/New_York
BEGIN:DAYLIGHT
TZOFFSETFROM:-0500
TZOFFSETTO:-0400
TZNAME:EDT
DTSTART:20240310T070000
END:DAYLIGHT
BEGIN:STANDARD
TZOFFSETFROM:-0400
TZOFFSETTO:-0500
TZNAME:EST
DTSTART:20241103T060000
END:STANDARD
BEGIN:DAYLIGHT
TZOFFSETFROM:-0500
TZOFFSETTO:-0400
TZNAME:EDT
DTSTART:20250309T070000
END:DAYLIGHT
BEGIN:STANDARD
TZOFFSETFROM:-0400
TZOFFSETTO:-0500
TZNAME:EST
DTSTART:20251102T060000
END:STANDARD
BEGIN:DAYLIGHT
TZOFFSETFROM:-0500
TZOFFSETTO:-0400
TZNAME:EDT
DTSTART:20260308T070000
END:DAYLIGHT
BEGIN:STANDARD
TZOFFSETFROM:-0400
TZOFFSETTO:-0500
TZNAME:EST
DTSTART:20261101T060000
END:STANDARD
END:VTIMEZONE
BEGIN:VEVENT
DTSTART;TZID=America/New_York:20251203T100000
DTEND;TZID=America/New_York:20251203T190000
DTSTAMP:20260421T214615
CREATED:20241119T012450Z
LAST-MODIFIED:20251124T103958Z
UID:10000525-1764756000-1764788400@www.sewickleytownshippubliclibrary.org
SUMMARY:Diaper Distribution
DESCRIPTION:Diaper Distribution \nFirst Wednesday of the Month\n10:00 AM – 7:00 PM\n@ Sewickley Township Public Library \nFREE diapers\, pull-ups for families in need! \n  \nEach month\, the Library partners with the Western PA Diaper Bank to help keep babies clean\, healthy and dry. Diapers and Pull Ups are available to any family that needs them. A short form and survey must be filled out on the first visit. Families may visit any time\, once per month\, to receive diapers\, beginning on the 1st Wednesday. First come\, first served\, while supplies last.
URL:https://www.sewickleytownshippubliclibrary.org/event/diaper-distribution-4/2025-12-03/
LOCATION:Sewickley Township Public Library\, 312 Sewickley Avenue\, Herminie\, PA\, 15637\, United States
CATEGORIES:Community Event
ATTACH;FMTTYPE=image/png:https://www.sewickleytownshippubliclibrary.org/wp-content/uploads/2024/11/Free-Diapers-and-Pullups_crop-e1763980239661.png
ORGANIZER;CN="Mandy Luchs":MAILTO:mandy.luchs@wclibraries.org
END:VEVENT
BEGIN:VEVENT
DTSTART;TZID=America/New_York:20251206T100000
DTEND;TZID=America/New_York:20251206T150000
DTSTAMP:20260421T214615
CREATED:20251201T233345Z
LAST-MODIFIED:20251201T233345Z
UID:10001095-1765015200-1765033200@www.sewickleytownshippubliclibrary.org
SUMMARY:Annual Holiday Craft and Vendor Show
DESCRIPTION:Annual Holiday Craft and Vendor Show\nSaturday\, December 6\, 10:00 AM – 3:00 PM \nJoin us at the Herminie VFW\, Post 8427\nFrom 10:00 AM – 3:00 PM \nTons of crafters & vendors\, 50/50\, door prize\,\nChinese auction\, food & bake sale \nBring a new\, unwrapped toy for Toys for Tots &\nget a free entry into the door prize. \n 
URL:https://www.sewickleytownshippubliclibrary.org/event/annual-holiday-craft-and-vendor-show/
LOCATION:Herminie VFW\, 501 Church Street\, Herminie\, PA\, 15637\, United States
CATEGORIES:All Ages Activity,Annual Event,Community Event
ATTACH;FMTTYPE=image/jpeg:https://www.sewickleytownshippubliclibrary.org/wp-content/uploads/2025/12/2025-Dec-6-Holiday-Craft-and-Vendor-Show_2.jpg
END:VEVENT
BEGIN:VEVENT
DTSTART;TZID=America/New_York:20251206T110000
DTEND;TZID=America/New_York:20251206T130000
DTSTAMP:20260421T214615
CREATED:20251202T000457Z
LAST-MODIFIED:20251202T000457Z
UID:10001096-1765018800-1765026000@www.sewickleytownshippubliclibrary.org
SUMMARY:Free Pictures with Santa & Mrs. Claus
DESCRIPTION:Free Pictures with Santa & Mrs. Claus\nSaturday\, December 6\, 11:00 AM – 1:00 PM \nDuring the Craft & Vendor Show Upstairs @ Herminie VFW \nBring your kids and your fur babies and get your pictures with Santa & Mrs. Claus.\nEach child/pet will get a gift. \n 
URL:https://www.sewickleytownshippubliclibrary.org/event/free-pictures-with-santa-mrs-claus/
LOCATION:Herminie VFW\, 501 Church Street\, Herminie\, PA\, 15637\, United States
CATEGORIES:All Ages Activity,Annual Event,Community Event
ATTACH;FMTTYPE=image/jpeg:https://www.sewickleytownshippubliclibrary.org/wp-content/uploads/2025/12/2025-Dec-6-Pictures-with-Santa_2.jpg
END:VEVENT
BEGIN:VEVENT
DTSTART;TZID=America/New_York:20251206T120000
DTEND;TZID=America/New_York:20251206T173000
DTSTAMP:20260421T214615
CREATED:20251201T231245Z
LAST-MODIFIED:20251201T231245Z
UID:10001094-1765022400-1765042200@www.sewickleytownshippubliclibrary.org
SUMMARY:Sewickley Township Light Up Night
DESCRIPTION:Sewickley Township Light Up Night\nSaturday\, December 6\, 12:00 PM – 5:30 PM \nJoin us at the Herminie Fire Hall – Doors open at 12:00 PM\n1:00 PM – Pet Parade\, Registration at 12:30 PM\n1:30 PM – 4:00 PM – Free Hayrides\nFree Face Painting\nChinese Auction Baskets\nDelicious Food and Refreshments \n4:30 PM – Parade on Sewickley Avenue Begins\nLight My Ride Contest! – Prizes for: Most Creative\, Crowd Favorite\, Vintage and Kids \nSponsored by Sewickley Township Cultural Commission\nFor more information contact:\nLisa – 724-309-5704\nMatt – 724-244-9757 \n 
URL:https://www.sewickleytownshippubliclibrary.org/event/sewickley-township-light-up-night/
LOCATION:Herminie Firehall\, 308 Sewickley Avenue\, Herminie\, 15637\, United States
CATEGORIES:All Ages Activity,Annual Event,Community Event
ATTACH;FMTTYPE=image/jpeg:https://www.sewickleytownshippubliclibrary.org/wp-content/uploads/2025/12/2025-Dec-6-Light-Up-Night_2-e1764630194630.jpg
END:VEVENT
END:VCALENDAR