BEGIN:VCALENDAR
VERSION:2.0
PRODID:-//Sewickley Township Public Library - ECPv6.15.11//NONSGML v1.0//EN
CALSCALE:GREGORIAN
METHOD:PUBLISH
X-WR-CALNAME:Sewickley Township Public Library
X-ORIGINAL-URL:https://www.sewickleytownshippubliclibrary.org
X-WR-CALDESC:Events for Sewickley Township Public Library
REFRESH-INTERVAL;VALUE=DURATION:PT1H
X-Robots-Tag:noindex
X-PUBLISHED-TTL:PT1H
BEGIN:VTIMEZONE
TZID:America/New_York
BEGIN:DAYLIGHT
TZOFFSETFROM:-0500
TZOFFSETTO:-0400
TZNAME:EDT
DTSTART:20240310T070000
END:DAYLIGHT
BEGIN:STANDARD
TZOFFSETFROM:-0400
TZOFFSETTO:-0500
TZNAME:EST
DTSTART:20241103T060000
END:STANDARD
BEGIN:DAYLIGHT
TZOFFSETFROM:-0500
TZOFFSETTO:-0400
TZNAME:EDT
DTSTART:20250309T070000
END:DAYLIGHT
BEGIN:STANDARD
TZOFFSETFROM:-0400
TZOFFSETTO:-0500
TZNAME:EST
DTSTART:20251102T060000
END:STANDARD
BEGIN:DAYLIGHT
TZOFFSETFROM:-0500
TZOFFSETTO:-0400
TZNAME:EDT
DTSTART:20260308T070000
END:DAYLIGHT
BEGIN:STANDARD
TZOFFSETFROM:-0400
TZOFFSETTO:-0500
TZNAME:EST
DTSTART:20261101T060000
END:STANDARD
END:VTIMEZONE
BEGIN:VEVENT
DTSTART;TZID=America/New_York:20251001T100000
DTEND;TZID=America/New_York:20251001T190000
DTSTAMP:20260424T092007
CREATED:20241119T012450Z
LAST-MODIFIED:20251124T103958Z
UID:10000523-1759312800-1759345200@www.sewickleytownshippubliclibrary.org
SUMMARY:Diaper Distribution
DESCRIPTION:Diaper Distribution \nFirst Wednesday of the Month\n10:00 AM – 7:00 PM\n@ Sewickley Township Public Library \nFREE diapers\, pull-ups for families in need! \n  \nEach month\, the Library partners with the Western PA Diaper Bank to help keep babies clean\, healthy and dry. Diapers and Pull Ups are available to any family that needs them. A short form and survey must be filled out on the first visit. Families may visit any time\, once per month\, to receive diapers\, beginning on the 1st Wednesday. First come\, first served\, while supplies last.
URL:https://www.sewickleytownshippubliclibrary.org/event/diaper-distribution-4/2025-10-01/
LOCATION:Sewickley Township Public Library\, 312 Sewickley Avenue\, Herminie\, PA\, 15637\, United States
CATEGORIES:Community Event
ATTACH;FMTTYPE=image/png:https://www.sewickleytownshippubliclibrary.org/wp-content/uploads/2024/11/Free-Diapers-and-Pullups_crop-e1763980239661.png
ORGANIZER;CN="Mandy Luchs":MAILTO:mandy.luchs@wclibraries.org
END:VEVENT
BEGIN:VEVENT
DTSTART;TZID=America/New_York:20251017T133000
DTEND;TZID=America/New_York:20251017T143000
DTSTAMP:20260424T092007
CREATED:20251112T233647Z
LAST-MODIFIED:20251112T233647Z
UID:10001083-1760707800-1760711400@www.sewickleytownshippubliclibrary.org
SUMMARY:Groundbreaking Ceremony
DESCRIPTION:Groundbreaking Ceremony\nFriday\, October 17th\, 1:30PM \nThe Groundbreaking Ceremony for the new library building is here!\nWhile there is still funding to secure\, our previous grant awards require substantial completion by the end of 2026.\nSo it’s time to move forward!\nWe warmly welcome everyone to attend.
URL:https://www.sewickleytownshippubliclibrary.org/event/groundbreaking-ceremony/
LOCATION:New Sewickley Township Public Library\, 16 Highland Avenue\, Herminie\, 15637\, United States
CATEGORIES:Community Event
ATTACH;FMTTYPE=image/jpeg:https://www.sewickleytownshippubliclibrary.org/wp-content/uploads/2025/11/2025-Oct-17_Groundbreaking.jpg
ORGANIZER;CN="Mandy Luchs":MAILTO:mandy.luchs@wclibraries.org
END:VEVENT
END:VCALENDAR